BEGIN:VCALENDAR
VERSION:2.0
PRODID:-//Siesta Key Chapel - ECPv6.15.20//NONSGML v1.0//EN
CALSCALE:GREGORIAN
METHOD:PUBLISH
X-WR-CALNAME:Siesta Key Chapel
X-ORIGINAL-URL:https://siestakeychapel.org
X-WR-CALDESC:Events for Siesta Key Chapel
REFRESH-INTERVAL;VALUE=DURATION:PT1H
X-Robots-Tag:noindex
X-PUBLISHED-TTL:PT1H
BEGIN:VTIMEZONE
TZID:America/New_York
BEGIN:DAYLIGHT
TZOFFSETFROM:-0500
TZOFFSETTO:-0400
TZNAME:EDT
DTSTART:20240310T070000
END:DAYLIGHT
BEGIN:STANDARD
TZOFFSETFROM:-0400
TZOFFSETTO:-0500
TZNAME:EST
DTSTART:20241103T060000
END:STANDARD
BEGIN:DAYLIGHT
TZOFFSETFROM:-0500
TZOFFSETTO:-0400
TZNAME:EDT
DTSTART:20250309T070000
END:DAYLIGHT
BEGIN:STANDARD
TZOFFSETFROM:-0400
TZOFFSETTO:-0500
TZNAME:EST
DTSTART:20251102T060000
END:STANDARD
BEGIN:DAYLIGHT
TZOFFSETFROM:-0500
TZOFFSETTO:-0400
TZNAME:EDT
DTSTART:20260308T070000
END:DAYLIGHT
BEGIN:STANDARD
TZOFFSETFROM:-0400
TZOFFSETTO:-0500
TZNAME:EST
DTSTART:20261101T060000
END:STANDARD
BEGIN:DAYLIGHT
TZOFFSETFROM:-0500
TZOFFSETTO:-0400
TZNAME:EDT
DTSTART:20270314T070000
END:DAYLIGHT
BEGIN:STANDARD
TZOFFSETFROM:-0400
TZOFFSETTO:-0500
TZNAME:EST
DTSTART:20271107T060000
END:STANDARD
END:VTIMEZONE
BEGIN:VEVENT
DTSTART;TZID=America/New_York:20251019T100000
DTEND;TZID=America/New_York:20251019T110000
DTSTAMP:20260421T202011
CREATED:20250501T151609Z
LAST-MODIFIED:20251015T003829Z
UID:10004721-1760868000-1760871600@siestakeychapel.org
SUMMARY:Worship in the Chapel
DESCRIPTION:
URL:https://siestakeychapel.org/event/worship-in-the-chapel-11/2025-10-19/
ATTACH;FMTTYPE=image/jpeg:https://siestakeychapel.org/wp-content/uploads/2023/10/20170415-_d751121_33215347344_o-scaled-1-e1697735374458.jpg
END:VEVENT
BEGIN:VEVENT
DTSTART;TZID=America/New_York:20260524T100000
DTEND;TZID=America/New_York:20260524T110000
DTSTAMP:20260421T202011
CREATED:20260420T011255Z
LAST-MODIFIED:20260420T011510Z
UID:10004904-1779616800-1779620400@siestakeychapel.org
SUMMARY:Worship in the Chapel
DESCRIPTION:
URL:https://siestakeychapel.org/event/worship-in-the-chapel-11-3/2026-05-24/
ATTACH;FMTTYPE=image/jpeg:https://siestakeychapel.org/wp-content/uploads/2023/10/20170415-_d751121_33215347344_o-scaled-1-e1697735374458.jpg
END:VEVENT
BEGIN:VEVENT
DTSTART;TZID=America/New_York:20260531T100000
DTEND;TZID=America/New_York:20260531T110000
DTSTAMP:20260421T202011
CREATED:20260420T011255Z
LAST-MODIFIED:20260420T011510Z
UID:10004905-1780221600-1780225200@siestakeychapel.org
SUMMARY:Worship in the Chapel
DESCRIPTION:
URL:https://siestakeychapel.org/event/worship-in-the-chapel-11-3/2026-05-31/
ATTACH;FMTTYPE=image/jpeg:https://siestakeychapel.org/wp-content/uploads/2023/10/20170415-_d751121_33215347344_o-scaled-1-e1697735374458.jpg
END:VEVENT
BEGIN:VEVENT
DTSTART;TZID=America/New_York:20260607T100000
DTEND;TZID=America/New_York:20260607T110000
DTSTAMP:20260421T202011
CREATED:20260420T011255Z
LAST-MODIFIED:20260420T011510Z
UID:10004906-1780826400-1780830000@siestakeychapel.org
SUMMARY:Worship in the Chapel
DESCRIPTION:
URL:https://siestakeychapel.org/event/worship-in-the-chapel-11-3/2026-06-07/
ATTACH;FMTTYPE=image/jpeg:https://siestakeychapel.org/wp-content/uploads/2023/10/20170415-_d751121_33215347344_o-scaled-1-e1697735374458.jpg
END:VEVENT
BEGIN:VEVENT
DTSTART;TZID=America/New_York:20260614T100000
DTEND;TZID=America/New_York:20260614T110000
DTSTAMP:20260421T202011
CREATED:20260420T011255Z
LAST-MODIFIED:20260420T011510Z
UID:10004907-1781431200-1781434800@siestakeychapel.org
SUMMARY:Worship in the Chapel
DESCRIPTION:
URL:https://siestakeychapel.org/event/worship-in-the-chapel-11-3/2026-06-14/
ATTACH;FMTTYPE=image/jpeg:https://siestakeychapel.org/wp-content/uploads/2023/10/20170415-_d751121_33215347344_o-scaled-1-e1697735374458.jpg
END:VEVENT
BEGIN:VEVENT
DTSTART;TZID=America/New_York:20260621T100000
DTEND;TZID=America/New_York:20260621T110000
DTSTAMP:20260421T202011
CREATED:20260420T011255Z
LAST-MODIFIED:20260420T011510Z
UID:10004908-1782036000-1782039600@siestakeychapel.org
SUMMARY:Worship in the Chapel
DESCRIPTION:
URL:https://siestakeychapel.org/event/worship-in-the-chapel-11-3/2026-06-21/
ATTACH;FMTTYPE=image/jpeg:https://siestakeychapel.org/wp-content/uploads/2023/10/20170415-_d751121_33215347344_o-scaled-1-e1697735374458.jpg
END:VEVENT
BEGIN:VEVENT
DTSTART;TZID=America/New_York:20260628T100000
DTEND;TZID=America/New_York:20260628T110000
DTSTAMP:20260421T202011
CREATED:20260420T011255Z
LAST-MODIFIED:20260420T011510Z
UID:10004909-1782640800-1782644400@siestakeychapel.org
SUMMARY:Worship in the Chapel
DESCRIPTION:
URL:https://siestakeychapel.org/event/worship-in-the-chapel-11-3/2026-06-28/
ATTACH;FMTTYPE=image/jpeg:https://siestakeychapel.org/wp-content/uploads/2023/10/20170415-_d751121_33215347344_o-scaled-1-e1697735374458.jpg
END:VEVENT
BEGIN:VEVENT
DTSTART;TZID=America/New_York:20260705T100000
DTEND;TZID=America/New_York:20260705T110000
DTSTAMP:20260421T202011
CREATED:20260420T011255Z
LAST-MODIFIED:20260420T011510Z
UID:10004910-1783245600-1783249200@siestakeychapel.org
SUMMARY:Worship in the Chapel
DESCRIPTION:
URL:https://siestakeychapel.org/event/worship-in-the-chapel-11-3/2026-07-05/
ATTACH;FMTTYPE=image/jpeg:https://siestakeychapel.org/wp-content/uploads/2023/10/20170415-_d751121_33215347344_o-scaled-1-e1697735374458.jpg
END:VEVENT
BEGIN:VEVENT
DTSTART;TZID=America/New_York:20260712T100000
DTEND;TZID=America/New_York:20260712T110000
DTSTAMP:20260421T202011
CREATED:20260420T011255Z
LAST-MODIFIED:20260420T011510Z
UID:10004911-1783850400-1783854000@siestakeychapel.org
SUMMARY:Worship in the Chapel
DESCRIPTION:
URL:https://siestakeychapel.org/event/worship-in-the-chapel-11-3/2026-07-12/
ATTACH;FMTTYPE=image/jpeg:https://siestakeychapel.org/wp-content/uploads/2023/10/20170415-_d751121_33215347344_o-scaled-1-e1697735374458.jpg
END:VEVENT
BEGIN:VEVENT
DTSTART;TZID=America/New_York:20260719T100000
DTEND;TZID=America/New_York:20260719T110000
DTSTAMP:20260421T202011
CREATED:20260420T011255Z
LAST-MODIFIED:20260420T011510Z
UID:10004912-1784455200-1784458800@siestakeychapel.org
SUMMARY:Worship in the Chapel
DESCRIPTION:
URL:https://siestakeychapel.org/event/worship-in-the-chapel-11-3/2026-07-19/
ATTACH;FMTTYPE=image/jpeg:https://siestakeychapel.org/wp-content/uploads/2023/10/20170415-_d751121_33215347344_o-scaled-1-e1697735374458.jpg
END:VEVENT
BEGIN:VEVENT
DTSTART;TZID=America/New_York:20260726T100000
DTEND;TZID=America/New_York:20260726T110000
DTSTAMP:20260421T202011
CREATED:20260420T011255Z
LAST-MODIFIED:20260420T011510Z
UID:10004913-1785060000-1785063600@siestakeychapel.org
SUMMARY:Worship in the Chapel
DESCRIPTION:
URL:https://siestakeychapel.org/event/worship-in-the-chapel-11-3/2026-07-26/
ATTACH;FMTTYPE=image/jpeg:https://siestakeychapel.org/wp-content/uploads/2023/10/20170415-_d751121_33215347344_o-scaled-1-e1697735374458.jpg
END:VEVENT
BEGIN:VEVENT
DTSTART;TZID=America/New_York:20260802T100000
DTEND;TZID=America/New_York:20260802T110000
DTSTAMP:20260421T202011
CREATED:20260420T011255Z
LAST-MODIFIED:20260420T011510Z
UID:10004914-1785664800-1785668400@siestakeychapel.org
SUMMARY:Worship in the Chapel
DESCRIPTION:
URL:https://siestakeychapel.org/event/worship-in-the-chapel-11-3/2026-08-02/
ATTACH;FMTTYPE=image/jpeg:https://siestakeychapel.org/wp-content/uploads/2023/10/20170415-_d751121_33215347344_o-scaled-1-e1697735374458.jpg
END:VEVENT
BEGIN:VEVENT
DTSTART;TZID=America/New_York:20260809T100000
DTEND;TZID=America/New_York:20260809T110000
DTSTAMP:20260421T202011
CREATED:20260420T011255Z
LAST-MODIFIED:20260420T011510Z
UID:10004915-1786269600-1786273200@siestakeychapel.org
SUMMARY:Worship in the Chapel
DESCRIPTION:
URL:https://siestakeychapel.org/event/worship-in-the-chapel-11-3/2026-08-09/
ATTACH;FMTTYPE=image/jpeg:https://siestakeychapel.org/wp-content/uploads/2023/10/20170415-_d751121_33215347344_o-scaled-1-e1697735374458.jpg
END:VEVENT
BEGIN:VEVENT
DTSTART;TZID=America/New_York:20260816T100000
DTEND;TZID=America/New_York:20260816T110000
DTSTAMP:20260421T202011
CREATED:20260420T011255Z
LAST-MODIFIED:20260420T011510Z
UID:10004916-1786874400-1786878000@siestakeychapel.org
SUMMARY:Worship in the Chapel
DESCRIPTION:
URL:https://siestakeychapel.org/event/worship-in-the-chapel-11-3/2026-08-16/
ATTACH;FMTTYPE=image/jpeg:https://siestakeychapel.org/wp-content/uploads/2023/10/20170415-_d751121_33215347344_o-scaled-1-e1697735374458.jpg
END:VEVENT
BEGIN:VEVENT
DTSTART;TZID=America/New_York:20260823T100000
DTEND;TZID=America/New_York:20260823T110000
DTSTAMP:20260421T202011
CREATED:20260420T011255Z
LAST-MODIFIED:20260420T011510Z
UID:10004917-1787479200-1787482800@siestakeychapel.org
SUMMARY:Worship in the Chapel
DESCRIPTION:
URL:https://siestakeychapel.org/event/worship-in-the-chapel-11-3/2026-08-23/
ATTACH;FMTTYPE=image/jpeg:https://siestakeychapel.org/wp-content/uploads/2023/10/20170415-_d751121_33215347344_o-scaled-1-e1697735374458.jpg
END:VEVENT
BEGIN:VEVENT
DTSTART;TZID=America/New_York:20260830T100000
DTEND;TZID=America/New_York:20260830T110000
DTSTAMP:20260421T202011
CREATED:20260420T011255Z
LAST-MODIFIED:20260420T011510Z
UID:10004918-1788084000-1788087600@siestakeychapel.org
SUMMARY:Worship in the Chapel
DESCRIPTION:
URL:https://siestakeychapel.org/event/worship-in-the-chapel-11-3/2026-08-30/
ATTACH;FMTTYPE=image/jpeg:https://siestakeychapel.org/wp-content/uploads/2023/10/20170415-_d751121_33215347344_o-scaled-1-e1697735374458.jpg
END:VEVENT
BEGIN:VEVENT
DTSTART;TZID=America/New_York:20260906T100000
DTEND;TZID=America/New_York:20260906T110000
DTSTAMP:20260421T202011
CREATED:20260420T011255Z
LAST-MODIFIED:20260420T011510Z
UID:10004919-1788688800-1788692400@siestakeychapel.org
SUMMARY:Worship in the Chapel
DESCRIPTION:
URL:https://siestakeychapel.org/event/worship-in-the-chapel-11-3/2026-09-06/
ATTACH;FMTTYPE=image/jpeg:https://siestakeychapel.org/wp-content/uploads/2023/10/20170415-_d751121_33215347344_o-scaled-1-e1697735374458.jpg
END:VEVENT
BEGIN:VEVENT
DTSTART;TZID=America/New_York:20260913T100000
DTEND;TZID=America/New_York:20260913T110000
DTSTAMP:20260421T202011
CREATED:20260420T011255Z
LAST-MODIFIED:20260420T011510Z
UID:10004920-1789293600-1789297200@siestakeychapel.org
SUMMARY:Worship in the Chapel
DESCRIPTION:
URL:https://siestakeychapel.org/event/worship-in-the-chapel-11-3/2026-09-13/
ATTACH;FMTTYPE=image/jpeg:https://siestakeychapel.org/wp-content/uploads/2023/10/20170415-_d751121_33215347344_o-scaled-1-e1697735374458.jpg
END:VEVENT
BEGIN:VEVENT
DTSTART;TZID=America/New_York:20260920T100000
DTEND;TZID=America/New_York:20260920T110000
DTSTAMP:20260421T202011
CREATED:20260420T011255Z
LAST-MODIFIED:20260420T011510Z
UID:10004921-1789898400-1789902000@siestakeychapel.org
SUMMARY:Worship in the Chapel
DESCRIPTION:
URL:https://siestakeychapel.org/event/worship-in-the-chapel-11-3/2026-09-20/
ATTACH;FMTTYPE=image/jpeg:https://siestakeychapel.org/wp-content/uploads/2023/10/20170415-_d751121_33215347344_o-scaled-1-e1697735374458.jpg
END:VEVENT
BEGIN:VEVENT
DTSTART;TZID=America/New_York:20260927T100000
DTEND;TZID=America/New_York:20260927T110000
DTSTAMP:20260421T202011
CREATED:20260420T011255Z
LAST-MODIFIED:20260420T011510Z
UID:10004922-1790503200-1790506800@siestakeychapel.org
SUMMARY:Worship in the Chapel
DESCRIPTION:
URL:https://siestakeychapel.org/event/worship-in-the-chapel-11-3/2026-09-27/
ATTACH;FMTTYPE=image/jpeg:https://siestakeychapel.org/wp-content/uploads/2023/10/20170415-_d751121_33215347344_o-scaled-1-e1697735374458.jpg
END:VEVENT
BEGIN:VEVENT
DTSTART;TZID=America/New_York:20261004T100000
DTEND;TZID=America/New_York:20261004T110000
DTSTAMP:20260421T202011
CREATED:20260420T011255Z
LAST-MODIFIED:20260420T011510Z
UID:10004923-1791108000-1791111600@siestakeychapel.org
SUMMARY:Worship in the Chapel
DESCRIPTION:
URL:https://siestakeychapel.org/event/worship-in-the-chapel-11-3/2026-10-04/
ATTACH;FMTTYPE=image/jpeg:https://siestakeychapel.org/wp-content/uploads/2023/10/20170415-_d751121_33215347344_o-scaled-1-e1697735374458.jpg
END:VEVENT
BEGIN:VEVENT
DTSTART;TZID=America/New_York:20261011T100000
DTEND;TZID=America/New_York:20261011T110000
DTSTAMP:20260421T202011
CREATED:20260420T011255Z
LAST-MODIFIED:20260420T011510Z
UID:10004924-1791712800-1791716400@siestakeychapel.org
SUMMARY:Worship in the Chapel
DESCRIPTION:
URL:https://siestakeychapel.org/event/worship-in-the-chapel-11-3/2026-10-11/
ATTACH;FMTTYPE=image/jpeg:https://siestakeychapel.org/wp-content/uploads/2023/10/20170415-_d751121_33215347344_o-scaled-1-e1697735374458.jpg
END:VEVENT
BEGIN:VEVENT
DTSTART;TZID=America/New_York:20261018T100000
DTEND;TZID=America/New_York:20261018T110000
DTSTAMP:20260421T202011
CREATED:20260420T011255Z
LAST-MODIFIED:20260420T011510Z
UID:10004925-1792317600-1792321200@siestakeychapel.org
SUMMARY:Worship in the Chapel
DESCRIPTION:
URL:https://siestakeychapel.org/event/worship-in-the-chapel-11-3/2026-10-18/
ATTACH;FMTTYPE=image/jpeg:https://siestakeychapel.org/wp-content/uploads/2023/10/20170415-_d751121_33215347344_o-scaled-1-e1697735374458.jpg
END:VEVENT
BEGIN:VEVENT
DTSTART;TZID=America/New_York:20261025T100000
DTEND;TZID=America/New_York:20261025T110000
DTSTAMP:20260421T202011
CREATED:20260420T011255Z
LAST-MODIFIED:20260420T011510Z
UID:10004926-1792922400-1792926000@siestakeychapel.org
SUMMARY:Worship in the Chapel
DESCRIPTION:
URL:https://siestakeychapel.org/event/worship-in-the-chapel-11-3/2026-10-25/
ATTACH;FMTTYPE=image/jpeg:https://siestakeychapel.org/wp-content/uploads/2023/10/20170415-_d751121_33215347344_o-scaled-1-e1697735374458.jpg
END:VEVENT
BEGIN:VEVENT
DTSTART;TZID=America/New_York:20261101T100000
DTEND;TZID=America/New_York:20261101T110000
DTSTAMP:20260421T202011
CREATED:20260420T011255Z
LAST-MODIFIED:20260420T011510Z
UID:10004927-1793527200-1793530800@siestakeychapel.org
SUMMARY:Worship in the Chapel
DESCRIPTION:
URL:https://siestakeychapel.org/event/worship-in-the-chapel-11-3/2026-11-01/
ATTACH;FMTTYPE=image/jpeg:https://siestakeychapel.org/wp-content/uploads/2023/10/20170415-_d751121_33215347344_o-scaled-1-e1697735374458.jpg
END:VEVENT
END:VCALENDAR