BEGIN:VCALENDAR
VERSION:2.0
PRODID:-//Siesta Key Chapel - ECPv6.15.20//NONSGML v1.0//EN
CALSCALE:GREGORIAN
METHOD:PUBLISH
X-WR-CALNAME:Siesta Key Chapel
X-ORIGINAL-URL:https://siestakeychapel.org
X-WR-CALDESC:Events for Siesta Key Chapel
REFRESH-INTERVAL;VALUE=DURATION:PT1H
X-Robots-Tag:noindex
X-PUBLISHED-TTL:PT1H
BEGIN:VTIMEZONE
TZID:America/New_York
BEGIN:DAYLIGHT
TZOFFSETFROM:-0500
TZOFFSETTO:-0400
TZNAME:EDT
DTSTART:20240310T070000
END:DAYLIGHT
BEGIN:STANDARD
TZOFFSETFROM:-0400
TZOFFSETTO:-0500
TZNAME:EST
DTSTART:20241103T060000
END:STANDARD
BEGIN:DAYLIGHT
TZOFFSETFROM:-0500
TZOFFSETTO:-0400
TZNAME:EDT
DTSTART:20250309T070000
END:DAYLIGHT
BEGIN:STANDARD
TZOFFSETFROM:-0400
TZOFFSETTO:-0500
TZNAME:EST
DTSTART:20251102T060000
END:STANDARD
BEGIN:DAYLIGHT
TZOFFSETFROM:-0500
TZOFFSETTO:-0400
TZNAME:EDT
DTSTART:20260308T070000
END:DAYLIGHT
BEGIN:STANDARD
TZOFFSETFROM:-0400
TZOFFSETTO:-0500
TZNAME:EST
DTSTART:20261101T060000
END:STANDARD
END:VTIMEZONE
BEGIN:VEVENT
DTSTART;TZID=America/New_York:20251015T180000
DTEND;TZID=America/New_York:20251015T190000
DTSTAMP:20260422T095844
CREATED:20251010T222922Z
LAST-MODIFIED:20251010T222922Z
UID:10004700-1760551200-1760554800@siestakeychapel.org
SUMMARY:Sarasota County Hurricane Seminar
DESCRIPTION:Join Sarasota County Emergency Management for a discussion on hurricane preparedness.
URL:https://siestakeychapel.org/event/sarasota-county-hurricane-seminar/
LOCATION:Siesta Key Chapel\, 4615 Gleason Ave\, Sarasota\, FL\, 34242\, United States
END:VEVENT
BEGIN:VEVENT
DTSTART;TZID=America/New_York:20251026T110000
DTEND;TZID=America/New_York:20251026T120000
DTSTAMP:20260422T095844
CREATED:20251010T221922Z
LAST-MODIFIED:20251010T221922Z
UID:10004699-1761476400-1761480000@siestakeychapel.org
SUMMARY:Ministry Sunday
DESCRIPTION:Interested in serving as a Liturgist or an Usher? Curious about donating flowers? Willing to assist with Communion?\nJoin us after the 10 am service on the deck for more information. Can’t be there that date but are still interested? Contact Conner at administrator@siestakeychapel.org
URL:https://siestakeychapel.org/event/ministry-sunday/
LOCATION:Siesta Key Chapel\, 4615 Gleason Ave\, Sarasota\, FL\, 34242\, United States
END:VEVENT
BEGIN:VEVENT
DTSTART;TZID=America/New_York:20251029T103000
DTEND;TZID=America/New_York:20251029T113000
DTSTAMP:20260422T095844
CREATED:20251020T235151Z
LAST-MODIFIED:20251020T235151Z
UID:10004761-1761733800-1761737400@siestakeychapel.org
SUMMARY:Advent Bible Study
DESCRIPTION:Free\, bring a friend! Monthly\, immediately after choir rehearsal.\nFresh coffee and bakery provided.\nWed.\, October 29 – HOPE\nWed.\, November 12 – PEACE\nWed.\, December 10 – JOY & LOVE \n 
URL:https://siestakeychapel.org/event/advent-bible-study/
LOCATION:Fellowship Hall\, Siesta Key Chapel\, 4615 Gleason Ave\, Sarasota\, FL\, 34242\, United States
ATTACH;FMTTYPE=image/jpeg:https://siestakeychapel.org/wp-content/uploads/2024/02/Bible-Study-2024.jpg
END:VEVENT
END:VCALENDAR