BEGIN:VCALENDAR
VERSION:2.0
PRODID:-//Siesta Key Chapel - ECPv6.15.20//NONSGML v1.0//EN
CALSCALE:GREGORIAN
METHOD:PUBLISH
X-ORIGINAL-URL:https://siestakeychapel.org
X-WR-CALDESC:Events for Siesta Key Chapel
REFRESH-INTERVAL;VALUE=DURATION:PT1H
X-Robots-Tag:noindex
X-PUBLISHED-TTL:PT1H
BEGIN:VTIMEZONE
TZID:America/New_York
BEGIN:DAYLIGHT
TZOFFSETFROM:-0500
TZOFFSETTO:-0400
TZNAME:EDT
DTSTART:20250309T070000
END:DAYLIGHT
BEGIN:STANDARD
TZOFFSETFROM:-0400
TZOFFSETTO:-0500
TZNAME:EST
DTSTART:20251102T060000
END:STANDARD
BEGIN:DAYLIGHT
TZOFFSETFROM:-0500
TZOFFSETTO:-0400
TZNAME:EDT
DTSTART:20260308T070000
END:DAYLIGHT
BEGIN:STANDARD
TZOFFSETFROM:-0400
TZOFFSETTO:-0500
TZNAME:EST
DTSTART:20261101T060000
END:STANDARD
BEGIN:DAYLIGHT
TZOFFSETFROM:-0500
TZOFFSETTO:-0400
TZNAME:EDT
DTSTART:20270314T070000
END:DAYLIGHT
BEGIN:STANDARD
TZOFFSETFROM:-0400
TZOFFSETTO:-0500
TZNAME:EST
DTSTART:20271107T060000
END:STANDARD
END:VTIMEZONE
BEGIN:VEVENT
DTSTART;TZID=America/New_York:20260816T083000
DTEND;TZID=America/New_York:20260816T090000
DTSTAMP:20260421T202952
CREATED:20260420T012001Z
LAST-MODIFIED:20260420T012001Z
UID:10004969-1786869000-1786870800@siestakeychapel.org
SUMMARY:Chapel on the Beach
DESCRIPTION:Chapel on the Beach is a beautiful way to worship God and hear the Gospel message preached in the glories of nature. This casual\, contemporary\, feet-in-the-sand service is followed by a time of fellowship between Siesta Key Chapel members and beachgoers. Truly\, this is the day the Lord has made. We will rejoice and be glad in it!
URL:https://siestakeychapel.org/event/chapel-on-the-beach-10/2026-08-16/
ATTACH;FMTTYPE=image/jpeg:https://siestakeychapel.org/wp-content/uploads/2025/05/IMG_3900-1.jpg
END:VEVENT
END:VCALENDAR