BEGIN:VCALENDAR
VERSION:2.0
PRODID:-//Siesta Key Chapel - ECPv6.15.20//NONSGML v1.0//EN
CALSCALE:GREGORIAN
METHOD:PUBLISH
X-ORIGINAL-URL:https://siestakeychapel.org
X-WR-CALDESC:Events for Siesta Key Chapel
REFRESH-INTERVAL;VALUE=DURATION:PT1H
X-Robots-Tag:noindex
X-PUBLISHED-TTL:PT1H
BEGIN:VTIMEZONE
TZID:America/New_York
BEGIN:DAYLIGHT
TZOFFSETFROM:-0500
TZOFFSETTO:-0400
TZNAME:EDT
DTSTART:20250309T070000
END:DAYLIGHT
BEGIN:STANDARD
TZOFFSETFROM:-0400
TZOFFSETTO:-0500
TZNAME:EST
DTSTART:20251102T060000
END:STANDARD
BEGIN:DAYLIGHT
TZOFFSETFROM:-0500
TZOFFSETTO:-0400
TZNAME:EDT
DTSTART:20260308T070000
END:DAYLIGHT
BEGIN:STANDARD
TZOFFSETFROM:-0400
TZOFFSETTO:-0500
TZNAME:EST
DTSTART:20261101T060000
END:STANDARD
BEGIN:DAYLIGHT
TZOFFSETFROM:-0500
TZOFFSETTO:-0400
TZNAME:EDT
DTSTART:20270314T070000
END:DAYLIGHT
BEGIN:STANDARD
TZOFFSETFROM:-0400
TZOFFSETTO:-0500
TZNAME:EST
DTSTART:20271107T060000
END:STANDARD
END:VTIMEZONE
BEGIN:VTIMEZONE
TZID:UTC
BEGIN:STANDARD
TZOFFSETFROM:+0000
TZOFFSETTO:+0000
TZNAME:UTC
DTSTART:20250101T000000
END:STANDARD
END:VTIMEZONE
BEGIN:VEVENT
DTSTART;TZID=America/New_York:20260614T100000
DTEND;TZID=America/New_York:20260614T110000
DTSTAMP:20260420T170331
CREATED:20260420T011255Z
LAST-MODIFIED:20260420T011510Z
UID:10004907-1781431200-1781434800@siestakeychapel.org
SUMMARY:Worship in the Chapel
DESCRIPTION:
URL:https://siestakeychapel.org/event/worship-in-the-chapel-11-3/2026-06-14/
LOCATION:FL
ATTACH;FMTTYPE=image/jpeg:https://siestakeychapel.org/wp-content/uploads/2023/10/20170415-_d751121_33215347344_o-scaled-1-e1697735374458.jpg
END:VEVENT
BEGIN:VEVENT
DTSTART;TZID=UTC:20260616T183000
DTEND;TZID=UTC:20260616T193000
DTSTAMP:20260420T170331
CREATED:20230822T234129Z
LAST-MODIFIED:20230822T234129Z
UID:10000394-1781634600-1781638200@siestakeychapel.org
SUMMARY:NA -  Narcotics Anonymous
DESCRIPTION:
URL:https://siestakeychapel.org/event/na-narcotics-anonymous/2026-06-16/
LOCATION:Fellowship Hall\, Siesta Key Chapel\, 4615 Gleason Ave\, Sarasota\, FL\, 34242\, United States
END:VEVENT
BEGIN:VEVENT
DTSTART;TZID=America/New_York:20260617T190000
DTEND;TZID=America/New_York:20260617T210000
DTSTAMP:20260420T170331
CREATED:20241028T191348Z
LAST-MODIFIED:20241028T192223Z
UID:10003903-1781722800-1781730000@siestakeychapel.org
SUMMARY:Ukulele Group - Sarasota Strummers
DESCRIPTION:All levels (beginners-advanced) of players are welcome to join us.
URL:https://siestakeychapel.org/event/ukulele-group-sarasota-strummers/2026-06-17/
LOCATION:Fellowship Hall\, Siesta Key Chapel\, 4615 Gleason Ave\, Sarasota\, FL\, 34242\, United States
ATTACH;FMTTYPE=image/jpeg:https://siestakeychapel.org/wp-content/uploads/2024/10/Ukelele-e1697029119590.jpg
END:VEVENT
BEGIN:VEVENT
DTSTART;TZID=UTC:20260618T190000
DTEND;TZID=UTC:20260618T200000
DTSTAMP:20260420T170331
CREATED:20230822T234315Z
LAST-MODIFIED:20230822T234344Z
UID:10000923-1781809200-1781812800@siestakeychapel.org
SUMMARY:AA - Alcoholics Anonymous
DESCRIPTION:
URL:https://siestakeychapel.org/event/aa-alcoholics-anonymous/2026-06-18/
LOCATION:Fellowship Hall\, Siesta Key Chapel\, 4615 Gleason Ave\, Sarasota\, FL\, 34242\, United States
END:VEVENT
BEGIN:VEVENT
DTSTART;TZID=America/New_York:20260621T083000
DTEND;TZID=America/New_York:20260621T090000
DTSTAMP:20260420T170331
CREATED:20260420T012001Z
LAST-MODIFIED:20260420T012001Z
UID:10004961-1782030600-1782032400@siestakeychapel.org
SUMMARY:Chapel on the Beach
DESCRIPTION:Chapel on the Beach is a beautiful way to worship God and hear the Gospel message preached in the glories of nature. This casual\, contemporary\, feet-in-the-sand service is followed by a time of fellowship between Siesta Key Chapel members and beachgoers. Truly\, this is the day the Lord has made. We will rejoice and be glad in it!
URL:https://siestakeychapel.org/event/chapel-on-the-beach-10/2026-06-21/
LOCATION:FL
ATTACH;FMTTYPE=image/jpeg:https://siestakeychapel.org/wp-content/uploads/2025/05/IMG_3900-1.jpg
END:VEVENT
BEGIN:VEVENT
DTSTART;TZID=America/New_York:20260621T100000
DTEND;TZID=America/New_York:20260621T110000
DTSTAMP:20260420T170331
CREATED:20260420T011255Z
LAST-MODIFIED:20260420T011510Z
UID:10004908-1782036000-1782039600@siestakeychapel.org
SUMMARY:Worship in the Chapel
DESCRIPTION:
URL:https://siestakeychapel.org/event/worship-in-the-chapel-11-3/2026-06-21/
LOCATION:FL
ATTACH;FMTTYPE=image/jpeg:https://siestakeychapel.org/wp-content/uploads/2023/10/20170415-_d751121_33215347344_o-scaled-1-e1697735374458.jpg
END:VEVENT
BEGIN:VEVENT
DTSTART;TZID=UTC:20260623T183000
DTEND;TZID=UTC:20260623T193000
DTSTAMP:20260420T170331
CREATED:20230822T234129Z
LAST-MODIFIED:20230822T234129Z
UID:10000395-1782239400-1782243000@siestakeychapel.org
SUMMARY:NA -  Narcotics Anonymous
DESCRIPTION:
URL:https://siestakeychapel.org/event/na-narcotics-anonymous/2026-06-23/
LOCATION:Fellowship Hall\, Siesta Key Chapel\, 4615 Gleason Ave\, Sarasota\, FL\, 34242\, United States
END:VEVENT
BEGIN:VEVENT
DTSTART;TZID=America/New_York:20260624T190000
DTEND;TZID=America/New_York:20260624T210000
DTSTAMP:20260420T170331
CREATED:20241028T191348Z
LAST-MODIFIED:20241028T192223Z
UID:10003904-1782327600-1782334800@siestakeychapel.org
SUMMARY:Ukulele Group - Sarasota Strummers
DESCRIPTION:All levels (beginners-advanced) of players are welcome to join us.
URL:https://siestakeychapel.org/event/ukulele-group-sarasota-strummers/2026-06-24/
LOCATION:Fellowship Hall\, Siesta Key Chapel\, 4615 Gleason Ave\, Sarasota\, FL\, 34242\, United States
ATTACH;FMTTYPE=image/jpeg:https://siestakeychapel.org/wp-content/uploads/2024/10/Ukelele-e1697029119590.jpg
END:VEVENT
BEGIN:VEVENT
DTSTART;TZID=UTC:20260625T190000
DTEND;TZID=UTC:20260625T200000
DTSTAMP:20260420T170331
CREATED:20230822T234315Z
LAST-MODIFIED:20230822T234344Z
UID:10000924-1782414000-1782417600@siestakeychapel.org
SUMMARY:AA - Alcoholics Anonymous
DESCRIPTION:
URL:https://siestakeychapel.org/event/aa-alcoholics-anonymous/2026-06-25/
LOCATION:Fellowship Hall\, Siesta Key Chapel\, 4615 Gleason Ave\, Sarasota\, FL\, 34242\, United States
END:VEVENT
BEGIN:VEVENT
DTSTART;TZID=America/New_York:20260628T083000
DTEND;TZID=America/New_York:20260628T090000
DTSTAMP:20260420T170331
CREATED:20260420T012001Z
LAST-MODIFIED:20260420T012001Z
UID:10004962-1782635400-1782637200@siestakeychapel.org
SUMMARY:Chapel on the Beach
DESCRIPTION:Chapel on the Beach is a beautiful way to worship God and hear the Gospel message preached in the glories of nature. This casual\, contemporary\, feet-in-the-sand service is followed by a time of fellowship between Siesta Key Chapel members and beachgoers. Truly\, this is the day the Lord has made. We will rejoice and be glad in it!
URL:https://siestakeychapel.org/event/chapel-on-the-beach-10/2026-06-28/
LOCATION:FL
ATTACH;FMTTYPE=image/jpeg:https://siestakeychapel.org/wp-content/uploads/2025/05/IMG_3900-1.jpg
END:VEVENT
BEGIN:VEVENT
DTSTART;TZID=America/New_York:20260628T100000
DTEND;TZID=America/New_York:20260628T110000
DTSTAMP:20260420T170331
CREATED:20260420T011255Z
LAST-MODIFIED:20260420T011510Z
UID:10004909-1782640800-1782644400@siestakeychapel.org
SUMMARY:Worship in the Chapel
DESCRIPTION:
URL:https://siestakeychapel.org/event/worship-in-the-chapel-11-3/2026-06-28/
LOCATION:FL
ATTACH;FMTTYPE=image/jpeg:https://siestakeychapel.org/wp-content/uploads/2023/10/20170415-_d751121_33215347344_o-scaled-1-e1697735374458.jpg
END:VEVENT
BEGIN:VEVENT
DTSTART;TZID=UTC:20260630T183000
DTEND;TZID=UTC:20260630T193000
DTSTAMP:20260420T170331
CREATED:20230822T234129Z
LAST-MODIFIED:20230822T234129Z
UID:10000396-1782844200-1782847800@siestakeychapel.org
SUMMARY:NA -  Narcotics Anonymous
DESCRIPTION:
URL:https://siestakeychapel.org/event/na-narcotics-anonymous/2026-06-30/
LOCATION:Fellowship Hall\, Siesta Key Chapel\, 4615 Gleason Ave\, Sarasota\, FL\, 34242\, United States
END:VEVENT
BEGIN:VEVENT
DTSTART;TZID=America/New_York:20260701T190000
DTEND;TZID=America/New_York:20260701T210000
DTSTAMP:20260420T170331
CREATED:20241028T191348Z
LAST-MODIFIED:20241028T192223Z
UID:10003905-1782932400-1782939600@siestakeychapel.org
SUMMARY:Ukulele Group - Sarasota Strummers
DESCRIPTION:All levels (beginners-advanced) of players are welcome to join us.
URL:https://siestakeychapel.org/event/ukulele-group-sarasota-strummers/2026-07-01/
LOCATION:Fellowship Hall\, Siesta Key Chapel\, 4615 Gleason Ave\, Sarasota\, FL\, 34242\, United States
ATTACH;FMTTYPE=image/jpeg:https://siestakeychapel.org/wp-content/uploads/2024/10/Ukelele-e1697029119590.jpg
END:VEVENT
BEGIN:VEVENT
DTSTART;TZID=UTC:20260702T190000
DTEND;TZID=UTC:20260702T200000
DTSTAMP:20260420T170331
CREATED:20230822T234315Z
LAST-MODIFIED:20230822T234344Z
UID:10000925-1783018800-1783022400@siestakeychapel.org
SUMMARY:AA - Alcoholics Anonymous
DESCRIPTION:
URL:https://siestakeychapel.org/event/aa-alcoholics-anonymous/2026-07-02/
LOCATION:Fellowship Hall\, Siesta Key Chapel\, 4615 Gleason Ave\, Sarasota\, FL\, 34242\, United States
END:VEVENT
BEGIN:VEVENT
DTSTART;TZID=America/New_York:20260705T083000
DTEND;TZID=America/New_York:20260705T090000
DTSTAMP:20260420T170331
CREATED:20260420T012001Z
LAST-MODIFIED:20260420T012001Z
UID:10004963-1783240200-1783242000@siestakeychapel.org
SUMMARY:Chapel on the Beach
DESCRIPTION:Chapel on the Beach is a beautiful way to worship God and hear the Gospel message preached in the glories of nature. This casual\, contemporary\, feet-in-the-sand service is followed by a time of fellowship between Siesta Key Chapel members and beachgoers. Truly\, this is the day the Lord has made. We will rejoice and be glad in it!
URL:https://siestakeychapel.org/event/chapel-on-the-beach-10/2026-07-05/
LOCATION:FL
ATTACH;FMTTYPE=image/jpeg:https://siestakeychapel.org/wp-content/uploads/2025/05/IMG_3900-1.jpg
END:VEVENT
BEGIN:VEVENT
DTSTART;TZID=America/New_York:20260705T100000
DTEND;TZID=America/New_York:20260705T110000
DTSTAMP:20260420T170331
CREATED:20260420T011255Z
LAST-MODIFIED:20260420T011510Z
UID:10004910-1783245600-1783249200@siestakeychapel.org
SUMMARY:Worship in the Chapel
DESCRIPTION:
URL:https://siestakeychapel.org/event/worship-in-the-chapel-11-3/2026-07-05/
LOCATION:FL
ATTACH;FMTTYPE=image/jpeg:https://siestakeychapel.org/wp-content/uploads/2023/10/20170415-_d751121_33215347344_o-scaled-1-e1697735374458.jpg
END:VEVENT
BEGIN:VEVENT
DTSTART;TZID=UTC:20260707T183000
DTEND;TZID=UTC:20260707T193000
DTSTAMP:20260420T170331
CREATED:20230822T234129Z
LAST-MODIFIED:20230822T234129Z
UID:10000397-1783449000-1783452600@siestakeychapel.org
SUMMARY:NA -  Narcotics Anonymous
DESCRIPTION:
URL:https://siestakeychapel.org/event/na-narcotics-anonymous/2026-07-07/
LOCATION:Fellowship Hall\, Siesta Key Chapel\, 4615 Gleason Ave\, Sarasota\, FL\, 34242\, United States
END:VEVENT
BEGIN:VEVENT
DTSTART;TZID=America/New_York:20260708T190000
DTEND;TZID=America/New_York:20260708T210000
DTSTAMP:20260420T170331
CREATED:20241028T191348Z
LAST-MODIFIED:20241028T192223Z
UID:10003906-1783537200-1783544400@siestakeychapel.org
SUMMARY:Ukulele Group - Sarasota Strummers
DESCRIPTION:All levels (beginners-advanced) of players are welcome to join us.
URL:https://siestakeychapel.org/event/ukulele-group-sarasota-strummers/2026-07-08/
LOCATION:Fellowship Hall\, Siesta Key Chapel\, 4615 Gleason Ave\, Sarasota\, FL\, 34242\, United States
ATTACH;FMTTYPE=image/jpeg:https://siestakeychapel.org/wp-content/uploads/2024/10/Ukelele-e1697029119590.jpg
END:VEVENT
BEGIN:VEVENT
DTSTART;TZID=UTC:20260709T190000
DTEND;TZID=UTC:20260709T200000
DTSTAMP:20260420T170331
CREATED:20230822T234315Z
LAST-MODIFIED:20230822T234344Z
UID:10000926-1783623600-1783627200@siestakeychapel.org
SUMMARY:AA - Alcoholics Anonymous
DESCRIPTION:
URL:https://siestakeychapel.org/event/aa-alcoholics-anonymous/2026-07-09/
LOCATION:Fellowship Hall\, Siesta Key Chapel\, 4615 Gleason Ave\, Sarasota\, FL\, 34242\, United States
END:VEVENT
BEGIN:VEVENT
DTSTART;TZID=America/New_York:20260712T083000
DTEND;TZID=America/New_York:20260712T090000
DTSTAMP:20260420T170331
CREATED:20260420T012001Z
LAST-MODIFIED:20260420T012001Z
UID:10004964-1783845000-1783846800@siestakeychapel.org
SUMMARY:Chapel on the Beach
DESCRIPTION:Chapel on the Beach is a beautiful way to worship God and hear the Gospel message preached in the glories of nature. This casual\, contemporary\, feet-in-the-sand service is followed by a time of fellowship between Siesta Key Chapel members and beachgoers. Truly\, this is the day the Lord has made. We will rejoice and be glad in it!
URL:https://siestakeychapel.org/event/chapel-on-the-beach-10/2026-07-12/
LOCATION:FL
ATTACH;FMTTYPE=image/jpeg:https://siestakeychapel.org/wp-content/uploads/2025/05/IMG_3900-1.jpg
END:VEVENT
BEGIN:VEVENT
DTSTART;TZID=America/New_York:20260712T100000
DTEND;TZID=America/New_York:20260712T110000
DTSTAMP:20260420T170331
CREATED:20260420T011255Z
LAST-MODIFIED:20260420T011510Z
UID:10004911-1783850400-1783854000@siestakeychapel.org
SUMMARY:Worship in the Chapel
DESCRIPTION:
URL:https://siestakeychapel.org/event/worship-in-the-chapel-11-3/2026-07-12/
LOCATION:FL
ATTACH;FMTTYPE=image/jpeg:https://siestakeychapel.org/wp-content/uploads/2023/10/20170415-_d751121_33215347344_o-scaled-1-e1697735374458.jpg
END:VEVENT
BEGIN:VEVENT
DTSTART;TZID=UTC:20260714T183000
DTEND;TZID=UTC:20260714T193000
DTSTAMP:20260420T170331
CREATED:20230822T234129Z
LAST-MODIFIED:20230822T234129Z
UID:10000398-1784053800-1784057400@siestakeychapel.org
SUMMARY:NA -  Narcotics Anonymous
DESCRIPTION:
URL:https://siestakeychapel.org/event/na-narcotics-anonymous/2026-07-14/
LOCATION:Fellowship Hall\, Siesta Key Chapel\, 4615 Gleason Ave\, Sarasota\, FL\, 34242\, United States
END:VEVENT
BEGIN:VEVENT
DTSTART;TZID=America/New_York:20260715T190000
DTEND;TZID=America/New_York:20260715T210000
DTSTAMP:20260420T170331
CREATED:20241028T191348Z
LAST-MODIFIED:20241028T192223Z
UID:10003907-1784142000-1784149200@siestakeychapel.org
SUMMARY:Ukulele Group - Sarasota Strummers
DESCRIPTION:All levels (beginners-advanced) of players are welcome to join us.
URL:https://siestakeychapel.org/event/ukulele-group-sarasota-strummers/2026-07-15/
LOCATION:Fellowship Hall\, Siesta Key Chapel\, 4615 Gleason Ave\, Sarasota\, FL\, 34242\, United States
ATTACH;FMTTYPE=image/jpeg:https://siestakeychapel.org/wp-content/uploads/2024/10/Ukelele-e1697029119590.jpg
END:VEVENT
BEGIN:VEVENT
DTSTART;TZID=UTC:20260716T190000
DTEND;TZID=UTC:20260716T200000
DTSTAMP:20260420T170331
CREATED:20230822T234315Z
LAST-MODIFIED:20230822T234344Z
UID:10000927-1784228400-1784232000@siestakeychapel.org
SUMMARY:AA - Alcoholics Anonymous
DESCRIPTION:
URL:https://siestakeychapel.org/event/aa-alcoholics-anonymous/2026-07-16/
LOCATION:Fellowship Hall\, Siesta Key Chapel\, 4615 Gleason Ave\, Sarasota\, FL\, 34242\, United States
END:VEVENT
BEGIN:VEVENT
DTSTART;TZID=America/New_York:20260719T083000
DTEND;TZID=America/New_York:20260719T090000
DTSTAMP:20260420T170331
CREATED:20260420T012001Z
LAST-MODIFIED:20260420T012001Z
UID:10004965-1784449800-1784451600@siestakeychapel.org
SUMMARY:Chapel on the Beach
DESCRIPTION:Chapel on the Beach is a beautiful way to worship God and hear the Gospel message preached in the glories of nature. This casual\, contemporary\, feet-in-the-sand service is followed by a time of fellowship between Siesta Key Chapel members and beachgoers. Truly\, this is the day the Lord has made. We will rejoice and be glad in it!
URL:https://siestakeychapel.org/event/chapel-on-the-beach-10/2026-07-19/
LOCATION:FL
ATTACH;FMTTYPE=image/jpeg:https://siestakeychapel.org/wp-content/uploads/2025/05/IMG_3900-1.jpg
END:VEVENT
BEGIN:VEVENT
DTSTART;TZID=America/New_York:20260719T100000
DTEND;TZID=America/New_York:20260719T110000
DTSTAMP:20260420T170331
CREATED:20260420T011255Z
LAST-MODIFIED:20260420T011510Z
UID:10004912-1784455200-1784458800@siestakeychapel.org
SUMMARY:Worship in the Chapel
DESCRIPTION:
URL:https://siestakeychapel.org/event/worship-in-the-chapel-11-3/2026-07-19/
LOCATION:FL
ATTACH;FMTTYPE=image/jpeg:https://siestakeychapel.org/wp-content/uploads/2023/10/20170415-_d751121_33215347344_o-scaled-1-e1697735374458.jpg
END:VEVENT
BEGIN:VEVENT
DTSTART;TZID=UTC:20260721T183000
DTEND;TZID=UTC:20260721T193000
DTSTAMP:20260420T170331
CREATED:20230822T234129Z
LAST-MODIFIED:20230822T234129Z
UID:10000399-1784658600-1784662200@siestakeychapel.org
SUMMARY:NA -  Narcotics Anonymous
DESCRIPTION:
URL:https://siestakeychapel.org/event/na-narcotics-anonymous/2026-07-21/
LOCATION:Fellowship Hall\, Siesta Key Chapel\, 4615 Gleason Ave\, Sarasota\, FL\, 34242\, United States
END:VEVENT
BEGIN:VEVENT
DTSTART;TZID=America/New_York:20260722T190000
DTEND;TZID=America/New_York:20260722T210000
DTSTAMP:20260420T170331
CREATED:20241028T191348Z
LAST-MODIFIED:20241028T192223Z
UID:10003908-1784746800-1784754000@siestakeychapel.org
SUMMARY:Ukulele Group - Sarasota Strummers
DESCRIPTION:All levels (beginners-advanced) of players are welcome to join us.
URL:https://siestakeychapel.org/event/ukulele-group-sarasota-strummers/2026-07-22/
LOCATION:Fellowship Hall\, Siesta Key Chapel\, 4615 Gleason Ave\, Sarasota\, FL\, 34242\, United States
ATTACH;FMTTYPE=image/jpeg:https://siestakeychapel.org/wp-content/uploads/2024/10/Ukelele-e1697029119590.jpg
END:VEVENT
BEGIN:VEVENT
DTSTART;TZID=UTC:20260723T190000
DTEND;TZID=UTC:20260723T200000
DTSTAMP:20260420T170331
CREATED:20230822T234315Z
LAST-MODIFIED:20230822T234344Z
UID:10000928-1784833200-1784836800@siestakeychapel.org
SUMMARY:AA - Alcoholics Anonymous
DESCRIPTION:
URL:https://siestakeychapel.org/event/aa-alcoholics-anonymous/2026-07-23/
LOCATION:Fellowship Hall\, Siesta Key Chapel\, 4615 Gleason Ave\, Sarasota\, FL\, 34242\, United States
END:VEVENT
BEGIN:VEVENT
DTSTART;TZID=America/New_York:20260726T083000
DTEND;TZID=America/New_York:20260726T090000
DTSTAMP:20260420T170331
CREATED:20260420T012001Z
LAST-MODIFIED:20260420T012001Z
UID:10004966-1785054600-1785056400@siestakeychapel.org
SUMMARY:Chapel on the Beach
DESCRIPTION:Chapel on the Beach is a beautiful way to worship God and hear the Gospel message preached in the glories of nature. This casual\, contemporary\, feet-in-the-sand service is followed by a time of fellowship between Siesta Key Chapel members and beachgoers. Truly\, this is the day the Lord has made. We will rejoice and be glad in it!
URL:https://siestakeychapel.org/event/chapel-on-the-beach-10/2026-07-26/
LOCATION:FL
ATTACH;FMTTYPE=image/jpeg:https://siestakeychapel.org/wp-content/uploads/2025/05/IMG_3900-1.jpg
END:VEVENT
END:VCALENDAR