BEGIN:VCALENDAR
VERSION:2.0
PRODID:-//Siesta Key Chapel - ECPv6.15.20//NONSGML v1.0//EN
CALSCALE:GREGORIAN
METHOD:PUBLISH
X-ORIGINAL-URL:https://siestakeychapel.org
X-WR-CALDESC:Events for Siesta Key Chapel
REFRESH-INTERVAL;VALUE=DURATION:PT1H
X-Robots-Tag:noindex
X-PUBLISHED-TTL:PT1H
BEGIN:VTIMEZONE
TZID:America/New_York
BEGIN:DAYLIGHT
TZOFFSETFROM:-0500
TZOFFSETTO:-0400
TZNAME:EDT
DTSTART:20240310T070000
END:DAYLIGHT
BEGIN:STANDARD
TZOFFSETFROM:-0400
TZOFFSETTO:-0500
TZNAME:EST
DTSTART:20241103T060000
END:STANDARD
BEGIN:DAYLIGHT
TZOFFSETFROM:-0500
TZOFFSETTO:-0400
TZNAME:EDT
DTSTART:20250309T070000
END:DAYLIGHT
BEGIN:STANDARD
TZOFFSETFROM:-0400
TZOFFSETTO:-0500
TZNAME:EST
DTSTART:20251102T060000
END:STANDARD
BEGIN:DAYLIGHT
TZOFFSETFROM:-0500
TZOFFSETTO:-0400
TZNAME:EDT
DTSTART:20260308T070000
END:DAYLIGHT
BEGIN:STANDARD
TZOFFSETFROM:-0400
TZOFFSETTO:-0500
TZNAME:EST
DTSTART:20261101T060000
END:STANDARD
BEGIN:DAYLIGHT
TZOFFSETFROM:-0500
TZOFFSETTO:-0400
TZNAME:EDT
DTSTART:20270314T070000
END:DAYLIGHT
BEGIN:STANDARD
TZOFFSETFROM:-0400
TZOFFSETTO:-0500
TZNAME:EST
DTSTART:20271107T060000
END:STANDARD
END:VTIMEZONE
BEGIN:VTIMEZONE
TZID:UTC
BEGIN:STANDARD
TZOFFSETFROM:+0000
TZOFFSETTO:+0000
TZNAME:UTC
DTSTART:20250101T000000
END:STANDARD
END:VTIMEZONE
BEGIN:VEVENT
DTSTART;TZID=America/New_York:20260419T090000
DTEND;TZID=America/New_York:20260419T093000
DTSTAMP:20260420T144912
CREATED:20251101T181108Z
LAST-MODIFIED:20260420T010612Z
UID:10004900-1776589200-1776591000@siestakeychapel.org
SUMMARY:Chapel on the Beach
DESCRIPTION:Chapel on the Beach is a beautiful way to worship God and hear the Gospel message preached in the glories of nature. This casual\, contemporary\, feet-in-the-sand service is followed by a time of fellowship between Siesta Key Chapel members and beachgoers. Truly\, this is the day the Lord has made. We will rejoice and be glad in it!
URL:https://siestakeychapel.org/event/chapel-on-the-beach-20-2/2026-04-19/
ATTACH;FMTTYPE=image/jpeg:https://siestakeychapel.org/wp-content/uploads/2025/05/IMG_3900-1.jpg
END:VEVENT
BEGIN:VEVENT
DTSTART;TZID=America/New_York:20260419T103000
DTEND;TZID=America/New_York:20260419T113000
DTSTAMP:20260420T144912
CREATED:20251101T181320Z
LAST-MODIFIED:20260420T010155Z
UID:10004819-1776594600-1776598200@siestakeychapel.org
SUMMARY:Worship in the Chapel
DESCRIPTION:Pastor Ruth welcomes members\, friends and visitors to become active in the vibrant faith community of Siesta Key Chapel.
URL:https://siestakeychapel.org/event/worship-in-the-chapel-11-2/2026-04-19/
ATTACH;FMTTYPE=image/jpeg:https://siestakeychapel.org/wp-content/uploads/2023/10/20170415-_d751121_33215347344_o-scaled-1-e1697735374458.jpg
END:VEVENT
BEGIN:VEVENT
DTSTART;TZID=America/New_York:20260421T130000
DTEND;TZID=America/New_York:20260421T140000
DTSTAMP:20260420T144912
CREATED:20260210T014117Z
LAST-MODIFIED:20260210T014303Z
UID:10004831-1776776400-1776780000@siestakeychapel.org
SUMMARY:Church Session Meeting
DESCRIPTION:
URL:https://siestakeychapel.org/event/church-session-meeting/2026-04-21/
END:VEVENT
BEGIN:VEVENT
DTSTART;TZID=UTC:20260421T183000
DTEND;TZID=UTC:20260421T193000
DTSTAMP:20260420T144912
CREATED:20230822T234129Z
LAST-MODIFIED:20230822T234129Z
UID:10000386-1776796200-1776799800@siestakeychapel.org
SUMMARY:NA -  Narcotics Anonymous
DESCRIPTION:
URL:https://siestakeychapel.org/event/na-narcotics-anonymous/2026-04-21/
LOCATION:Fellowship Hall\, Siesta Key Chapel\, 4615 Gleason Ave\, Sarasota\, FL\, 34242\, United States
END:VEVENT
BEGIN:VEVENT
DTSTART;TZID=America/New_York:20260422T190000
DTEND;TZID=America/New_York:20260422T210000
DTSTAMP:20260420T144912
CREATED:20241028T191348Z
LAST-MODIFIED:20241028T192223Z
UID:10003895-1776884400-1776891600@siestakeychapel.org
SUMMARY:Ukulele Group - Sarasota Strummers
DESCRIPTION:All levels (beginners-advanced) of players are welcome to join us.
URL:https://siestakeychapel.org/event/ukulele-group-sarasota-strummers/2026-04-22/
LOCATION:Fellowship Hall\, Siesta Key Chapel\, 4615 Gleason Ave\, Sarasota\, FL\, 34242\, United States
ATTACH;FMTTYPE=image/jpeg:https://siestakeychapel.org/wp-content/uploads/2024/10/Ukelele-e1697029119590.jpg
END:VEVENT
BEGIN:VEVENT
DTSTART;TZID=UTC:20260423T190000
DTEND;TZID=UTC:20260423T200000
DTSTAMP:20260420T144912
CREATED:20230822T234315Z
LAST-MODIFIED:20230822T234344Z
UID:10000915-1776970800-1776974400@siestakeychapel.org
SUMMARY:AA - Alcoholics Anonymous
DESCRIPTION:
URL:https://siestakeychapel.org/event/aa-alcoholics-anonymous/2026-04-23/
LOCATION:Fellowship Hall\, Siesta Key Chapel\, 4615 Gleason Ave\, Sarasota\, FL\, 34242\, United States
END:VEVENT
BEGIN:VEVENT
DTSTART;TZID=America/New_York:20260426T090000
DTEND;TZID=America/New_York:20260426T093000
DTSTAMP:20260420T144912
CREATED:20251101T181108Z
LAST-MODIFIED:20260420T010612Z
UID:10004901-1777194000-1777195800@siestakeychapel.org
SUMMARY:Chapel on the Beach
DESCRIPTION:Chapel on the Beach is a beautiful way to worship God and hear the Gospel message preached in the glories of nature. This casual\, contemporary\, feet-in-the-sand service is followed by a time of fellowship between Siesta Key Chapel members and beachgoers. Truly\, this is the day the Lord has made. We will rejoice and be glad in it!
URL:https://siestakeychapel.org/event/chapel-on-the-beach-20-2/2026-04-26/
ATTACH;FMTTYPE=image/jpeg:https://siestakeychapel.org/wp-content/uploads/2025/05/IMG_3900-1.jpg
END:VEVENT
BEGIN:VEVENT
DTSTART;TZID=America/New_York:20260426T103000
DTEND;TZID=America/New_York:20260426T113000
DTSTAMP:20260420T144912
CREATED:20251101T181320Z
LAST-MODIFIED:20260420T010155Z
UID:10004820-1777199400-1777203000@siestakeychapel.org
SUMMARY:Worship in the Chapel
DESCRIPTION:Pastor Ruth welcomes members\, friends and visitors to become active in the vibrant faith community of Siesta Key Chapel.
URL:https://siestakeychapel.org/event/worship-in-the-chapel-11-2/2026-04-26/
ATTACH;FMTTYPE=image/jpeg:https://siestakeychapel.org/wp-content/uploads/2023/10/20170415-_d751121_33215347344_o-scaled-1-e1697735374458.jpg
END:VEVENT
BEGIN:VEVENT
DTSTART;TZID=UTC:20260428T183000
DTEND;TZID=UTC:20260428T193000
DTSTAMP:20260420T144912
CREATED:20230822T234129Z
LAST-MODIFIED:20230822T234129Z
UID:10000387-1777401000-1777404600@siestakeychapel.org
SUMMARY:NA -  Narcotics Anonymous
DESCRIPTION:
URL:https://siestakeychapel.org/event/na-narcotics-anonymous/2026-04-28/
LOCATION:Fellowship Hall\, Siesta Key Chapel\, 4615 Gleason Ave\, Sarasota\, FL\, 34242\, United States
END:VEVENT
BEGIN:VEVENT
DTSTART;TZID=America/New_York:20260429T190000
DTEND;TZID=America/New_York:20260429T210000
DTSTAMP:20260420T144912
CREATED:20241028T191348Z
LAST-MODIFIED:20241028T192223Z
UID:10003896-1777489200-1777496400@siestakeychapel.org
SUMMARY:Ukulele Group - Sarasota Strummers
DESCRIPTION:All levels (beginners-advanced) of players are welcome to join us.
URL:https://siestakeychapel.org/event/ukulele-group-sarasota-strummers/2026-04-29/
LOCATION:Fellowship Hall\, Siesta Key Chapel\, 4615 Gleason Ave\, Sarasota\, FL\, 34242\, United States
ATTACH;FMTTYPE=image/jpeg:https://siestakeychapel.org/wp-content/uploads/2024/10/Ukelele-e1697029119590.jpg
END:VEVENT
BEGIN:VEVENT
DTSTART;TZID=UTC:20260430T190000
DTEND;TZID=UTC:20260430T200000
DTSTAMP:20260420T144912
CREATED:20230822T234315Z
LAST-MODIFIED:20230822T234344Z
UID:10000916-1777575600-1777579200@siestakeychapel.org
SUMMARY:AA - Alcoholics Anonymous
DESCRIPTION:
URL:https://siestakeychapel.org/event/aa-alcoholics-anonymous/2026-04-30/
LOCATION:Fellowship Hall\, Siesta Key Chapel\, 4615 Gleason Ave\, Sarasota\, FL\, 34242\, United States
END:VEVENT
BEGIN:VEVENT
DTSTART;TZID=America/New_York:20260503T090000
DTEND;TZID=America/New_York:20260503T093000
DTSTAMP:20260420T144912
CREATED:20251101T181108Z
LAST-MODIFIED:20260420T010612Z
UID:10004902-1777798800-1777800600@siestakeychapel.org
SUMMARY:Chapel on the Beach
DESCRIPTION:Chapel on the Beach is a beautiful way to worship God and hear the Gospel message preached in the glories of nature. This casual\, contemporary\, feet-in-the-sand service is followed by a time of fellowship between Siesta Key Chapel members and beachgoers. Truly\, this is the day the Lord has made. We will rejoice and be glad in it!
URL:https://siestakeychapel.org/event/chapel-on-the-beach-20-2/2026-05-03/
ATTACH;FMTTYPE=image/jpeg:https://siestakeychapel.org/wp-content/uploads/2025/05/IMG_3900-1.jpg
END:VEVENT
BEGIN:VEVENT
DTSTART;TZID=America/New_York:20260503T103000
DTEND;TZID=America/New_York:20260503T113000
DTSTAMP:20260420T144912
CREATED:20251101T181320Z
LAST-MODIFIED:20260420T010155Z
UID:10004892-1777804200-1777807800@siestakeychapel.org
SUMMARY:Worship in the Chapel
DESCRIPTION:Pastor Ruth welcomes members\, friends and visitors to become active in the vibrant faith community of Siesta Key Chapel.
URL:https://siestakeychapel.org/event/worship-in-the-chapel-11-2/2026-05-03/
ATTACH;FMTTYPE=image/jpeg:https://siestakeychapel.org/wp-content/uploads/2023/10/20170415-_d751121_33215347344_o-scaled-1-e1697735374458.jpg
END:VEVENT
BEGIN:VEVENT
DTSTART;TZID=UTC:20260505T183000
DTEND;TZID=UTC:20260505T193000
DTSTAMP:20260420T144912
CREATED:20230822T234129Z
LAST-MODIFIED:20230822T234129Z
UID:10000388-1778005800-1778009400@siestakeychapel.org
SUMMARY:NA -  Narcotics Anonymous
DESCRIPTION:
URL:https://siestakeychapel.org/event/na-narcotics-anonymous/2026-05-05/
LOCATION:Fellowship Hall\, Siesta Key Chapel\, 4615 Gleason Ave\, Sarasota\, FL\, 34242\, United States
END:VEVENT
BEGIN:VEVENT
DTSTART;TZID=America/New_York:20260506T190000
DTEND;TZID=America/New_York:20260506T210000
DTSTAMP:20260420T144912
CREATED:20241028T191348Z
LAST-MODIFIED:20241028T192223Z
UID:10003897-1778094000-1778101200@siestakeychapel.org
SUMMARY:Ukulele Group - Sarasota Strummers
DESCRIPTION:All levels (beginners-advanced) of players are welcome to join us.
URL:https://siestakeychapel.org/event/ukulele-group-sarasota-strummers/2026-05-06/
LOCATION:Fellowship Hall\, Siesta Key Chapel\, 4615 Gleason Ave\, Sarasota\, FL\, 34242\, United States
ATTACH;FMTTYPE=image/jpeg:https://siestakeychapel.org/wp-content/uploads/2024/10/Ukelele-e1697029119590.jpg
END:VEVENT
BEGIN:VEVENT
DTSTART;TZID=UTC:20260507T190000
DTEND;TZID=UTC:20260507T200000
DTSTAMP:20260420T144912
CREATED:20230822T234315Z
LAST-MODIFIED:20230822T234344Z
UID:10000917-1778180400-1778184000@siestakeychapel.org
SUMMARY:AA - Alcoholics Anonymous
DESCRIPTION:
URL:https://siestakeychapel.org/event/aa-alcoholics-anonymous/2026-05-07/
LOCATION:Fellowship Hall\, Siesta Key Chapel\, 4615 Gleason Ave\, Sarasota\, FL\, 34242\, United States
END:VEVENT
BEGIN:VEVENT
DTSTART;TZID=America/New_York:20260510T090000
DTEND;TZID=America/New_York:20260510T093000
DTSTAMP:20260420T144912
CREATED:20251101T181108Z
LAST-MODIFIED:20260420T010612Z
UID:10004903-1778403600-1778405400@siestakeychapel.org
SUMMARY:Chapel on the Beach
DESCRIPTION:Chapel on the Beach is a beautiful way to worship God and hear the Gospel message preached in the glories of nature. This casual\, contemporary\, feet-in-the-sand service is followed by a time of fellowship between Siesta Key Chapel members and beachgoers. Truly\, this is the day the Lord has made. We will rejoice and be glad in it!
URL:https://siestakeychapel.org/event/chapel-on-the-beach-20-2/2026-05-10/
ATTACH;FMTTYPE=image/jpeg:https://siestakeychapel.org/wp-content/uploads/2025/05/IMG_3900-1.jpg
END:VEVENT
BEGIN:VEVENT
DTSTART;TZID=America/New_York:20260510T103000
DTEND;TZID=America/New_York:20260510T113000
DTSTAMP:20260420T144912
CREATED:20251101T181320Z
LAST-MODIFIED:20260420T010155Z
UID:10004893-1778409000-1778412600@siestakeychapel.org
SUMMARY:Worship in the Chapel
DESCRIPTION:Pastor Ruth welcomes members\, friends and visitors to become active in the vibrant faith community of Siesta Key Chapel.
URL:https://siestakeychapel.org/event/worship-in-the-chapel-11-2/2026-05-10/
ATTACH;FMTTYPE=image/jpeg:https://siestakeychapel.org/wp-content/uploads/2023/10/20170415-_d751121_33215347344_o-scaled-1-e1697735374458.jpg
END:VEVENT
BEGIN:VEVENT
DTSTART;TZID=America/New_York:20260512T130000
DTEND;TZID=America/New_York:20260512T140000
DTSTAMP:20260420T144912
CREATED:20260210T014117Z
LAST-MODIFIED:20260210T014303Z
UID:10004833-1778590800-1778594400@siestakeychapel.org
SUMMARY:Church Session Meeting
DESCRIPTION:
URL:https://siestakeychapel.org/event/church-session-meeting/2026-05-12/
END:VEVENT
BEGIN:VEVENT
DTSTART;TZID=UTC:20260512T183000
DTEND;TZID=UTC:20260512T193000
DTSTAMP:20260420T144912
CREATED:20230822T234129Z
LAST-MODIFIED:20230822T234129Z
UID:10000389-1778610600-1778614200@siestakeychapel.org
SUMMARY:NA -  Narcotics Anonymous
DESCRIPTION:
URL:https://siestakeychapel.org/event/na-narcotics-anonymous/2026-05-12/
LOCATION:Fellowship Hall\, Siesta Key Chapel\, 4615 Gleason Ave\, Sarasota\, FL\, 34242\, United States
END:VEVENT
BEGIN:VEVENT
DTSTART;TZID=America/New_York:20260513T190000
DTEND;TZID=America/New_York:20260513T210000
DTSTAMP:20260420T144912
CREATED:20241028T191348Z
LAST-MODIFIED:20241028T192223Z
UID:10003898-1778698800-1778706000@siestakeychapel.org
SUMMARY:Ukulele Group - Sarasota Strummers
DESCRIPTION:All levels (beginners-advanced) of players are welcome to join us.
URL:https://siestakeychapel.org/event/ukulele-group-sarasota-strummers/2026-05-13/
LOCATION:Fellowship Hall\, Siesta Key Chapel\, 4615 Gleason Ave\, Sarasota\, FL\, 34242\, United States
ATTACH;FMTTYPE=image/jpeg:https://siestakeychapel.org/wp-content/uploads/2024/10/Ukelele-e1697029119590.jpg
END:VEVENT
BEGIN:VEVENT
DTSTART;TZID=UTC:20260514T190000
DTEND;TZID=UTC:20260514T200000
DTSTAMP:20260420T144912
CREATED:20230822T234315Z
LAST-MODIFIED:20230822T234344Z
UID:10000918-1778785200-1778788800@siestakeychapel.org
SUMMARY:AA - Alcoholics Anonymous
DESCRIPTION:
URL:https://siestakeychapel.org/event/aa-alcoholics-anonymous/2026-05-14/
LOCATION:Fellowship Hall\, Siesta Key Chapel\, 4615 Gleason Ave\, Sarasota\, FL\, 34242\, United States
END:VEVENT
BEGIN:VEVENT
DTSTART;TZID=America/New_York:20260517T083000
DTEND;TZID=America/New_York:20260517T090000
DTSTAMP:20260420T144912
CREATED:20260420T012001Z
LAST-MODIFIED:20260420T012001Z
UID:10004956-1779006600-1779008400@siestakeychapel.org
SUMMARY:Chapel on the Beach
DESCRIPTION:Chapel on the Beach is a beautiful way to worship God and hear the Gospel message preached in the glories of nature. This casual\, contemporary\, feet-in-the-sand service is followed by a time of fellowship between Siesta Key Chapel members and beachgoers. Truly\, this is the day the Lord has made. We will rejoice and be glad in it!
URL:https://siestakeychapel.org/event/chapel-on-the-beach-10/2026-05-17/
ATTACH;FMTTYPE=image/jpeg:https://siestakeychapel.org/wp-content/uploads/2025/05/IMG_3900-1.jpg
END:VEVENT
BEGIN:VEVENT
DTSTART;TZID=America/New_York:20251019T100000
DTEND;TZID=America/New_York:20251019T110000
DTSTAMP:20260420T144912
CREATED:20250501T151609Z
LAST-MODIFIED:20251015T003829Z
UID:10004721-1760868000-1760871600@siestakeychapel.org
SUMMARY:Worship in the Chapel
DESCRIPTION:
URL:https://siestakeychapel.org/event/worship-in-the-chapel-11/2025-10-19/
ATTACH;FMTTYPE=image/jpeg:https://siestakeychapel.org/wp-content/uploads/2023/10/20170415-_d751121_33215347344_o-scaled-1-e1697735374458.jpg
END:VEVENT
BEGIN:VEVENT
DTSTART;TZID=UTC:20260519T183000
DTEND;TZID=UTC:20260519T193000
DTSTAMP:20260420T144912
CREATED:20230822T234129Z
LAST-MODIFIED:20230822T234129Z
UID:10000390-1779215400-1779219000@siestakeychapel.org
SUMMARY:NA -  Narcotics Anonymous
DESCRIPTION:
URL:https://siestakeychapel.org/event/na-narcotics-anonymous/2026-05-19/
LOCATION:Fellowship Hall\, Siesta Key Chapel\, 4615 Gleason Ave\, Sarasota\, FL\, 34242\, United States
END:VEVENT
BEGIN:VEVENT
DTSTART;TZID=America/New_York:20260520T190000
DTEND;TZID=America/New_York:20260520T210000
DTSTAMP:20260420T144912
CREATED:20241028T191348Z
LAST-MODIFIED:20241028T192223Z
UID:10003899-1779303600-1779310800@siestakeychapel.org
SUMMARY:Ukulele Group - Sarasota Strummers
DESCRIPTION:All levels (beginners-advanced) of players are welcome to join us.
URL:https://siestakeychapel.org/event/ukulele-group-sarasota-strummers/2026-05-20/
LOCATION:Fellowship Hall\, Siesta Key Chapel\, 4615 Gleason Ave\, Sarasota\, FL\, 34242\, United States
ATTACH;FMTTYPE=image/jpeg:https://siestakeychapel.org/wp-content/uploads/2024/10/Ukelele-e1697029119590.jpg
END:VEVENT
BEGIN:VEVENT
DTSTART;TZID=UTC:20260521T190000
DTEND;TZID=UTC:20260521T200000
DTSTAMP:20260420T144912
CREATED:20230822T234315Z
LAST-MODIFIED:20230822T234344Z
UID:10000919-1779390000-1779393600@siestakeychapel.org
SUMMARY:AA - Alcoholics Anonymous
DESCRIPTION:
URL:https://siestakeychapel.org/event/aa-alcoholics-anonymous/2026-05-21/
LOCATION:Fellowship Hall\, Siesta Key Chapel\, 4615 Gleason Ave\, Sarasota\, FL\, 34242\, United States
END:VEVENT
BEGIN:VEVENT
DTSTART;TZID=America/New_York:20260524T083000
DTEND;TZID=America/New_York:20260524T090000
DTSTAMP:20260420T144912
CREATED:20260420T012001Z
LAST-MODIFIED:20260420T012001Z
UID:10004957-1779611400-1779613200@siestakeychapel.org
SUMMARY:Chapel on the Beach
DESCRIPTION:Chapel on the Beach is a beautiful way to worship God and hear the Gospel message preached in the glories of nature. This casual\, contemporary\, feet-in-the-sand service is followed by a time of fellowship between Siesta Key Chapel members and beachgoers. Truly\, this is the day the Lord has made. We will rejoice and be glad in it!
URL:https://siestakeychapel.org/event/chapel-on-the-beach-10/2026-05-24/
ATTACH;FMTTYPE=image/jpeg:https://siestakeychapel.org/wp-content/uploads/2025/05/IMG_3900-1.jpg
END:VEVENT
BEGIN:VEVENT
DTSTART;TZID=America/New_York:20260524T100000
DTEND;TZID=America/New_York:20260524T110000
DTSTAMP:20260420T144912
CREATED:20260420T011255Z
LAST-MODIFIED:20260420T011510Z
UID:10004904-1779616800-1779620400@siestakeychapel.org
SUMMARY:Worship in the Chapel
DESCRIPTION:
URL:https://siestakeychapel.org/event/worship-in-the-chapel-11-3/2026-05-24/
ATTACH;FMTTYPE=image/jpeg:https://siestakeychapel.org/wp-content/uploads/2023/10/20170415-_d751121_33215347344_o-scaled-1-e1697735374458.jpg
END:VEVENT
BEGIN:VEVENT
DTSTART;TZID=America/New_York:20260524T100000
DTEND;TZID=America/New_York:20260524T230000
DTSTAMP:20260420T144912
CREATED:20260304T201156Z
LAST-MODIFIED:20260420T012801Z
UID:10002260-1779616800-1779663600@siestakeychapel.org
SUMMARY:Annual Pentecost / Memorial Day Jazz Service
DESCRIPTION:Featuring Kevin Celebi and The Harmonic Sanity Jazz Band
URL:https://siestakeychapel.org/event/skc-music-series-kevin-celebi-and-the-harmonic-sanity-jazz-band/
LOCATION:Siesta Key Chapel\, 4615 Gleason Ave\, Sarasota\, FL\, 34242\, United States
END:VEVENT
END:VCALENDAR