BEGIN:VCALENDAR
VERSION:2.0
PRODID:-//Siesta Key Chapel - ECPv6.15.20//NONSGML v1.0//EN
CALSCALE:GREGORIAN
METHOD:PUBLISH
X-WR-CALNAME:Siesta Key Chapel
X-ORIGINAL-URL:https://siestakeychapel.org
X-WR-CALDESC:Events for Siesta Key Chapel
REFRESH-INTERVAL;VALUE=DURATION:PT1H
X-Robots-Tag:noindex
X-PUBLISHED-TTL:PT1H
BEGIN:VTIMEZONE
TZID:America/New_York
BEGIN:DAYLIGHT
TZOFFSETFROM:-0500
TZOFFSETTO:-0400
TZNAME:EDT
DTSTART:20250309T070000
END:DAYLIGHT
BEGIN:STANDARD
TZOFFSETFROM:-0400
TZOFFSETTO:-0500
TZNAME:EST
DTSTART:20251102T060000
END:STANDARD
BEGIN:DAYLIGHT
TZOFFSETFROM:-0500
TZOFFSETTO:-0400
TZNAME:EDT
DTSTART:20260308T070000
END:DAYLIGHT
BEGIN:STANDARD
TZOFFSETFROM:-0400
TZOFFSETTO:-0500
TZNAME:EST
DTSTART:20261101T060000
END:STANDARD
BEGIN:DAYLIGHT
TZOFFSETFROM:-0500
TZOFFSETTO:-0400
TZNAME:EDT
DTSTART:20270314T070000
END:DAYLIGHT
BEGIN:STANDARD
TZOFFSETFROM:-0400
TZOFFSETTO:-0500
TZNAME:EST
DTSTART:20271107T060000
END:STANDARD
END:VTIMEZONE
BEGIN:VTIMEZONE
TZID:UTC
BEGIN:STANDARD
TZOFFSETFROM:+0000
TZOFFSETTO:+0000
TZNAME:UTC
DTSTART:20250101T000000
END:STANDARD
END:VTIMEZONE
BEGIN:VEVENT
DTSTART;TZID=America/New_York:20260421T130000
DTEND;TZID=America/New_York:20260421T140000
DTSTAMP:20260421T053856
CREATED:20260210T014117Z
LAST-MODIFIED:20260210T014303Z
UID:10004831-1776776400-1776780000@siestakeychapel.org
SUMMARY:Church Session Meeting
DESCRIPTION:
URL:https://siestakeychapel.org/event/church-session-meeting/2026-04-21/
LOCATION:FL
END:VEVENT
BEGIN:VEVENT
DTSTART;TZID=UTC:20260421T183000
DTEND;TZID=UTC:20260421T193000
DTSTAMP:20260421T053856
CREATED:20230822T234129Z
LAST-MODIFIED:20230822T234129Z
UID:10000386-1776796200-1776799800@siestakeychapel.org
SUMMARY:NA -  Narcotics Anonymous
DESCRIPTION:
URL:https://siestakeychapel.org/event/na-narcotics-anonymous/2026-04-21/
LOCATION:Fellowship Hall\, Siesta Key Chapel\, 4615 Gleason Ave\, Sarasota\, FL\, 34242\, United States
END:VEVENT
END:VCALENDAR