BEGIN:VCALENDAR
VERSION:2.0
PRODID:-//Siesta Key Chapel - ECPv6.15.20//NONSGML v1.0//EN
CALSCALE:GREGORIAN
METHOD:PUBLISH
X-WR-CALNAME:Siesta Key Chapel
X-ORIGINAL-URL:https://siestakeychapel.org
X-WR-CALDESC:Events for Siesta Key Chapel
REFRESH-INTERVAL;VALUE=DURATION:PT1H
X-Robots-Tag:noindex
X-PUBLISHED-TTL:PT1H
BEGIN:VTIMEZONE
TZID:America/New_York
BEGIN:DAYLIGHT
TZOFFSETFROM:-0500
TZOFFSETTO:-0400
TZNAME:EDT
DTSTART:20240310T070000
END:DAYLIGHT
BEGIN:STANDARD
TZOFFSETFROM:-0400
TZOFFSETTO:-0500
TZNAME:EST
DTSTART:20241103T060000
END:STANDARD
BEGIN:DAYLIGHT
TZOFFSETFROM:-0500
TZOFFSETTO:-0400
TZNAME:EDT
DTSTART:20250309T070000
END:DAYLIGHT
BEGIN:STANDARD
TZOFFSETFROM:-0400
TZOFFSETTO:-0500
TZNAME:EST
DTSTART:20251102T060000
END:STANDARD
BEGIN:DAYLIGHT
TZOFFSETFROM:-0500
TZOFFSETTO:-0400
TZNAME:EDT
DTSTART:20260308T070000
END:DAYLIGHT
BEGIN:STANDARD
TZOFFSETFROM:-0400
TZOFFSETTO:-0500
TZNAME:EST
DTSTART:20261101T060000
END:STANDARD
END:VTIMEZONE
BEGIN:VEVENT
DTSTART;TZID=America/New_York:20250202T093000
DTEND;TZID=America/New_York:20250202T103000
DTSTAMP:20260419T084919
CREATED:20250117T130914Z
LAST-MODIFIED:20250125T001632Z
UID:10004167-1738488600-1738492200@siestakeychapel.org
SUMMARY:Adult Christian Education
DESCRIPTION:Adult Christian Education will take place on Sunday mornings in Fellowship Hall\nbeginning January 19th at 9:30am!\nCoffee and a light snack will be provided.\nBring a friend! \nJanuary 26th\, February 2nd\, February 9th: Rev. Mike Mansperger\n“A Season of Joy: Philippians”
URL:https://siestakeychapel.org/event/adult-christian-education-4/2025-02-02/
LOCATION:Fellowship Hall\, Siesta Key Chapel\, 4615 Gleason Ave\, Sarasota\, FL\, 34242\, United States
ATTACH;FMTTYPE=image/png:https://siestakeychapel.org/wp-content/uploads/2025/01/A-1.png
END:VEVENT
END:VCALENDAR