BEGIN:VCALENDAR
VERSION:2.0
PRODID:-//Siesta Key Chapel - ECPv6.15.20//NONSGML v1.0//EN
CALSCALE:GREGORIAN
METHOD:PUBLISH
X-WR-CALNAME:Siesta Key Chapel
X-ORIGINAL-URL:https://siestakeychapel.org
X-WR-CALDESC:Events for Siesta Key Chapel
REFRESH-INTERVAL;VALUE=DURATION:PT1H
X-Robots-Tag:noindex
X-PUBLISHED-TTL:PT1H
BEGIN:VTIMEZONE
TZID:UTC
BEGIN:STANDARD
TZOFFSETFROM:+0000
TZOFFSETTO:+0000
TZNAME:UTC
DTSTART:20220101T000000
END:STANDARD
END:VTIMEZONE
BEGIN:VEVENT
DTSTART;TZID=UTC:20230827T083000
DTEND;TZID=UTC:20230827T210000
DTSTAMP:20260420T055315
CREATED:20230523T181744Z
LAST-MODIFIED:20230613T183832Z
UID:10000046-1693125000-1693170000@siestakeychapel.org
SUMMARY:Chapel on the Beach
DESCRIPTION:
URL:https://siestakeychapel.org/event/chapel-on-the-beach-6/2023-08-27/
LOCATION:Chapel on the Beach\, 10 Beach Road\, Siesta Key\, FL\, 34242\, United States
END:VEVENT
BEGIN:VEVENT
DTSTART;TZID=UTC:20230827T100000
DTEND;TZID=UTC:20230827T230000
DTSTAMP:20260420T055315
CREATED:20230523T181326Z
LAST-MODIFIED:20230613T184031Z
UID:10000118-1693130400-1693177200@siestakeychapel.org
SUMMARY:Worship in the Chapel
DESCRIPTION:
URL:https://siestakeychapel.org/event/worship-in-the-chapel-4/2023-08-27/
LOCATION:Siesta Key Chapel\, 4615 Gleason Ave\, Sarasota\, FL\, 34242\, United States
END:VEVENT
BEGIN:VEVENT
DTSTART;TZID=UTC:20230827T113000
DTEND;TZID=UTC:20230827T130000
DTSTAMP:20260420T055315
CREATED:20230613T171224Z
LAST-MODIFIED:20230727T182020Z
UID:10000032-1693135800-1693141200@siestakeychapel.org
SUMMARY:All-Church Brunch
DESCRIPTION:Turtles on Siesta Key\nRSVP: by August 25\nSignup Options\n1. Chapel office: 941-349-1166 or administrator@siestakeychapel.org\n2. Sundays sign-up on the deck\n3. Online Signup form below \nPlease enable JavaScript in your browser to complete this form.Please enable JavaScript in your browser to complete this form.Name *FirstLastEmail *Phone *Number of People Attending12Comment or MessageSubmit
URL:https://siestakeychapel.org/event/all-church-brunch-3/
LOCATION:Turtles Restaurant\, 8875 Midnight Pass Rd\, Sarasota\, Florida\, 34242\, United States
ATTACH;FMTTYPE=image/jpeg:https://siestakeychapel.org/wp-content/uploads/2023/05/Turtles-All-Church-Brunch-June-25-2023.jpg
END:VEVENT
END:VCALENDAR