BEGIN:VCALENDAR
VERSION:2.0
PRODID:-//Siesta Key Chapel - ECPv6.15.20//NONSGML v1.0//EN
CALSCALE:GREGORIAN
METHOD:PUBLISH
X-WR-CALNAME:Siesta Key Chapel
X-ORIGINAL-URL:https://siestakeychapel.org
X-WR-CALDESC:Events for Siesta Key Chapel
REFRESH-INTERVAL;VALUE=DURATION:PT1H
X-Robots-Tag:noindex
X-PUBLISHED-TTL:PT1H
BEGIN:VTIMEZONE
TZID:UTC
BEGIN:STANDARD
TZOFFSETFROM:+0000
TZOFFSETTO:+0000
TZNAME:UTC
DTSTART:20220101T000000
END:STANDARD
END:VTIMEZONE
BEGIN:VEVENT
DTSTART;TZID=UTC:20230813T083000
DTEND;TZID=UTC:20230813T210000
DTSTAMP:20260420T054031
CREATED:20230523T181744Z
LAST-MODIFIED:20230613T183832Z
UID:10000044-1691915400-1691960400@siestakeychapel.org
SUMMARY:Chapel on the Beach
DESCRIPTION:
URL:https://siestakeychapel.org/event/chapel-on-the-beach-6/2023-08-13/
LOCATION:Chapel on the Beach\, 10 Beach Road\, Siesta Key\, FL\, 34242\, United States
END:VEVENT
BEGIN:VEVENT
DTSTART;TZID=UTC:20230813T090000
DTEND;TZID=UTC:20230813T100000
DTSTAMP:20260420T054031
CREATED:20230727T173534Z
LAST-MODIFIED:20230727T173625Z
UID:10000243-1691917200-1691920800@siestakeychapel.org
SUMMARY:New Member Inquiry Class
DESCRIPTION:Light breakfast provided.\nAll are welcome to learn about membership at Siesta Key Chapel\,\nand get to know the Pastor and members of Session.\nRSVP to Margie Kraft\, Membership Chair\,\nor call the Chapel Office (941-349-1166)
URL:https://siestakeychapel.org/event/new-member-inquiry-class/
LOCATION:Classroom 4\, 4615 Gleason Ave\, Sarasota\, FL\, 34242\, United States
ATTACH;FMTTYPE=image/png:https://siestakeychapel.org/wp-content/uploads/2023/07/New-Members-2.png
END:VEVENT
BEGIN:VEVENT
DTSTART;TZID=UTC:20230813T100000
DTEND;TZID=UTC:20230813T230000
DTSTAMP:20260420T054031
CREATED:20230613T184645Z
LAST-MODIFIED:20231019T211328Z
UID:10000116-1691920800-1691967600@siestakeychapel.org
SUMMARY:Worship in the Chapel with Communion
DESCRIPTION:
URL:https://siestakeychapel.org/event/worship-in-the-chapel-4-4/
LOCATION:Siesta Key Chapel\, 4615 Gleason Ave\, Sarasota\, FL\, 34242\, United States
ATTACH;FMTTYPE=image/jpeg:https://siestakeychapel.org/wp-content/uploads/2023/10/20170415-_d751121_33215347344_o-scaled-1-e1697735374458.jpg
END:VEVENT
END:VCALENDAR