BEGIN:VCALENDAR
VERSION:2.0
PRODID:-//Siesta Key Chapel - ECPv6.15.20//NONSGML v1.0//EN
CALSCALE:GREGORIAN
METHOD:PUBLISH
X-ORIGINAL-URL:https://siestakeychapel.org
X-WR-CALDESC:Events for Siesta Key Chapel
REFRESH-INTERVAL;VALUE=DURATION:PT1H
X-Robots-Tag:noindex
X-PUBLISHED-TTL:PT1H
BEGIN:VTIMEZONE
TZID:UTC
BEGIN:STANDARD
TZOFFSETFROM:+0000
TZOFFSETTO:+0000
TZNAME:UTC
DTSTART:20220101T000000
END:STANDARD
END:VTIMEZONE
BEGIN:VEVENT
DTSTART;TZID=UTC:20230709T083000
DTEND;TZID=UTC:20230709T210000
DTSTAMP:20260420T054359
CREATED:20230523T181744Z
LAST-MODIFIED:20230613T183832Z
UID:10000039-1688891400-1688936400@siestakeychapel.org
SUMMARY:Chapel on the Beach
DESCRIPTION:
URL:https://siestakeychapel.org/event/chapel-on-the-beach-6/2023-07-09/
LOCATION:Chapel on the Beach\, 10 Beach Road\, Siesta Key\, FL\, 34242\, United States
END:VEVENT
BEGIN:VEVENT
DTSTART;TZID=UTC:20230709T100000
DTEND;TZID=UTC:20230709T230000
DTSTAMP:20260420T054359
CREATED:20230613T184605Z
LAST-MODIFIED:20230613T184605Z
UID:10000111-1688896800-1688943600@siestakeychapel.org
SUMMARY:Worship in the Chapel with Communion
DESCRIPTION:
URL:https://siestakeychapel.org/event/worship-in-the-chapel-4-3/
LOCATION:Siesta Key Chapel\, 4615 Gleason Ave\, Sarasota\, FL\, 34242\, United States
END:VEVENT
END:VCALENDAR